BEGIN:VCALENDAR
VERSION:2.0
PRODID:-//Estación Nautica - ECPv6.15.16//NONSGML v1.0//EN
CALSCALE:GREGORIAN
METHOD:PUBLISH
X-ORIGINAL-URL:https://lagodeandalucia.com
X-WR-CALDESC:Eventos para Estación Nautica
REFRESH-INTERVAL;VALUE=DURATION:PT1H
X-Robots-Tag:noindex
X-PUBLISHED-TTL:PT1H
BEGIN:VTIMEZONE
TZID:Europe/Madrid
BEGIN:DAYLIGHT
TZOFFSETFROM:+0100
TZOFFSETTO:+0200
TZNAME:CEST
DTSTART:20200329T010000
END:DAYLIGHT
BEGIN:STANDARD
TZOFFSETFROM:+0200
TZOFFSETTO:+0100
TZNAME:CET
DTSTART:20201025T010000
END:STANDARD
BEGIN:DAYLIGHT
TZOFFSETFROM:+0100
TZOFFSETTO:+0200
TZNAME:CEST
DTSTART:20210328T010000
END:DAYLIGHT
BEGIN:STANDARD
TZOFFSETFROM:+0200
TZOFFSETTO:+0100
TZNAME:CET
DTSTART:20211031T010000
END:STANDARD
BEGIN:DAYLIGHT
TZOFFSETFROM:+0100
TZOFFSETTO:+0200
TZNAME:CEST
DTSTART:20220327T010000
END:DAYLIGHT
BEGIN:STANDARD
TZOFFSETFROM:+0200
TZOFFSETTO:+0100
TZNAME:CET
DTSTART:20221030T010000
END:STANDARD
END:VTIMEZONE
BEGIN:VTIMEZONE
TZID:UTC
BEGIN:STANDARD
TZOFFSETFROM:+0000
TZOFFSETTO:+0000
TZNAME:UTC
DTSTART:20200101T000000
END:STANDARD
END:VTIMEZONE
BEGIN:VEVENT
DTSTART;TZID=Europe/Madrid:20210718T000000
DTEND;TZID=Europe/Madrid:20210718T235959
DTSTAMP:20260424T233553
CREATED:20240423T095651Z
LAST-MODIFIED:20240423T095651Z
UID:4137-1626566400-1626652799@lagodeandalucia.com
SUMMARY:Fin de la Semana del Melón
DESCRIPTION:Benamejí
URL:https://lagodeandalucia.com/evento/fin-de-la-semana-del-melon/
END:VEVENT
BEGIN:VEVENT
DTSTART;TZID=UTC:20210718T000000
DTEND;TZID=UTC:20210718T235959
DTSTAMP:20260424T233553
CREATED:20240423T084944Z
LAST-MODIFIED:20240423T084944Z
UID:4048-1626566400-1626652799@lagodeandalucia.com
SUMMARY:Conciertos Estivales Banda Municipal de Música
DESCRIPTION:Rute
URL:https://lagodeandalucia.com/evento/conciertos-estivales-banda-municipal-de-musica-4/
END:VEVENT
BEGIN:VEVENT
DTSTART;TZID=Europe/Madrid:20210717T000000
DTEND;TZID=Europe/Madrid:20210717T235959
DTSTAMP:20260424T233553
CREATED:20240423T084944Z
LAST-MODIFIED:20240423T084944Z
UID:4046-1626480000-1626566399@lagodeandalucia.com
SUMMARY:Hnos. de la Aurora Virgen del Carmen
DESCRIPTION:Rute
URL:https://lagodeandalucia.com/evento/hnos-de-la-aurora-virgen-del-carmen-3/
END:VEVENT
BEGIN:VEVENT
DTSTART;TZID=Europe/Madrid:20210716T080000
DTEND;TZID=Europe/Madrid:20210718T170000
DTSTAMP:20260424T233553
CREATED:20240423T084743Z
LAST-MODIFIED:20240423T084743Z
UID:4045-1626422400-1626627600@lagodeandalucia.com
SUMMARY:Festividad y Verbena Virgen del Carmen
DESCRIPTION:Palenciana
URL:https://lagodeandalucia.com/evento/festividad-y-verbena-virgen-del-carmen/
END:VEVENT
BEGIN:VEVENT
DTSTART;TZID=Europe/Madrid:20210711T000000
DTEND;TZID=Europe/Madrid:20210711T235959
DTSTAMP:20260424T233553
CREATED:20240423T084743Z
LAST-MODIFIED:20240423T084743Z
UID:4044-1625961600-1626047999@lagodeandalucia.com
SUMMARY:Conciertos Estivales Banda Municipal de Música
DESCRIPTION:Rute
URL:https://lagodeandalucia.com/evento/conciertos-estivales-banda-municipal-de-musica-3/
END:VEVENT
BEGIN:VEVENT
DTSTART;TZID=Europe/Madrid:20210710T000000
DTEND;TZID=Europe/Madrid:20210710T235959
DTSTAMP:20260424T233553
CREATED:20240423T084743Z
LAST-MODIFIED:20240423T084743Z
UID:4042-1625875200-1625961599@lagodeandalucia.com
SUMMARY:Grieta Fest
DESCRIPTION:Benamejí.
URL:https://lagodeandalucia.com/evento/grieta-fest/
END:VEVENT
BEGIN:VEVENT
DTSTART;TZID=Europe/Madrid:20210710T000000
DTEND;TZID=Europe/Madrid:20210710T235959
DTSTAMP:20260424T233553
CREATED:20240423T084743Z
LAST-MODIFIED:20240423T084743Z
UID:4043-1625875200-1625961599@lagodeandalucia.com
SUMMARY:Hnos. de la Aurora/ Virgen del Carmen
DESCRIPTION:Rute
URL:https://lagodeandalucia.com/evento/hnos-de-la-aurora-virgen-del-carmen-2/
END:VEVENT
BEGIN:VEVENT
DTSTART;TZID=Europe/Madrid:20210709T000000
DTEND;TZID=Europe/Madrid:20210709T235959
DTSTAMP:20260424T233553
CREATED:20240423T084944Z
LAST-MODIFIED:20240423T084944Z
UID:4047-1625788800-1625875199@lagodeandalucia.com
SUMMARY:Inicio de la Semana del Melón
DESCRIPTION:Benamejí
URL:https://lagodeandalucia.com/evento/inicio-de-la-semana-del-melon/
END:VEVENT
BEGIN:VEVENT
DTSTART;TZID=Europe/Madrid:20210704T000000
DTEND;TZID=Europe/Madrid:20210704T235959
DTSTAMP:20260424T233553
CREATED:20240423T084743Z
LAST-MODIFIED:20240423T084743Z
UID:4041-1625356800-1625443199@lagodeandalucia.com
SUMMARY:Conciertos Estivales Banda Municipal de Música
DESCRIPTION:Rute
URL:https://lagodeandalucia.com/evento/conciertos-estivales-banda-municipal-de-musica-2/
END:VEVENT
BEGIN:VEVENT
DTSTART;TZID=UTC:20210703T000000
DTEND;TZID=UTC:20210703T235959
DTSTAMP:20260424T233553
CREATED:20240423T084543Z
LAST-MODIFIED:20240423T084543Z
UID:4040-1625270400-1625356799@lagodeandalucia.com
SUMMARY:XXVII Noche Flamenca
DESCRIPTION:Zambra (Rute)
URL:https://lagodeandalucia.com/evento/xxvii-noche-flamenca/
END:VEVENT
BEGIN:VEVENT
DTSTART;TZID=Europe/Madrid:20210703T000000
DTEND;TZID=Europe/Madrid:20210703T235959
DTSTAMP:20260424T233553
CREATED:20240423T084543Z
LAST-MODIFIED:20240423T084543Z
UID:4038-1625270400-1625356799@lagodeandalucia.com
SUMMARY:Senderismo Nocturno
DESCRIPTION:Encinas Reales.
URL:https://lagodeandalucia.com/evento/senderismo-nocturno/
END:VEVENT
BEGIN:VEVENT
DTSTART;TZID=Europe/Madrid:20210703T000000
DTEND;TZID=Europe/Madrid:20210703T235959
DTSTAMP:20260424T233553
CREATED:20240423T084543Z
LAST-MODIFIED:20240423T084543Z
UID:4039-1625270400-1625356799@lagodeandalucia.com
SUMMARY:Hnos. de la Aurora/ Virgen del Carmen
DESCRIPTION:Rute.
URL:https://lagodeandalucia.com/evento/hnos-de-la-aurora-virgen-del-carmen/
END:VEVENT
BEGIN:VEVENT
DTSTART;TZID=UTC:20210627T000000
DTEND;TZID=UTC:20210627T235959
DTSTAMP:20260424T233553
CREATED:20240423T084542Z
LAST-MODIFIED:20240423T084542Z
UID:4037-1624752000-1624838399@lagodeandalucia.com
SUMMARY:Conciertos Estivales Banda Municipal de Música
DESCRIPTION:Rute
URL:https://lagodeandalucia.com/evento/conciertos-estivales-banda-municipal-de-musica/
END:VEVENT
BEGIN:VEVENT
DTSTART;TZID=UTC:20210626T000000
DTEND;TZID=UTC:20210626T235959
DTSTAMP:20260424T233553
CREATED:20240423T084542Z
LAST-MODIFIED:20240423T084542Z
UID:4036-1624665600-1624751999@lagodeandalucia.com
SUMMARY:Festival de Flamenco Escuela Sebastián Leal
DESCRIPTION:Rute
URL:https://lagodeandalucia.com/evento/festival-de-flamenco-escuela-sebastian-leal/
END:VEVENT
BEGIN:VEVENT
DTSTART;TZID=Europe/Madrid:20210620T000000
DTEND;TZID=Europe/Madrid:20210620T235959
DTSTAMP:20260424T233553
CREATED:20240423T084527Z
LAST-MODIFIED:20240423T084527Z
UID:4035-1624147200-1624233599@lagodeandalucia.com
SUMMARY:Conciertos Estivales Banda Municipal de Rute
DESCRIPTION:Rute.
URL:https://lagodeandalucia.com/evento/conciertos-estivales-banda-municipal-de-rute/
END:VEVENT
BEGIN:VEVENT
DTSTART;TZID=Europe/Madrid:20210617T000000
DTEND;TZID=Europe/Madrid:20210620T235959
DTSTAMP:20260424T233553
CREATED:20240423T084527Z
LAST-MODIFIED:20240423T084527Z
UID:4034-1623888000-1624233599@lagodeandalucia.com
SUMMARY:Feria Chica de Iznájar
DESCRIPTION:Iznájar
URL:https://lagodeandalucia.com/evento/feria-chica-de-iznajar/
END:VEVENT
BEGIN:VEVENT
DTSTART;TZID=Europe/Madrid:20210613T000000
DTEND;TZID=Europe/Madrid:20210613T235959
DTSTAMP:20260424T233553
CREATED:20240423T084527Z
LAST-MODIFIED:20240423T084527Z
UID:4033-1623542400-1623628799@lagodeandalucia.com
SUMMARY:Corpus Christi
DESCRIPTION:Palenciana y Rute
URL:https://lagodeandalucia.com/evento/corpus-christi/
END:VEVENT
BEGIN:VEVENT
DTSTART;TZID=Europe/Madrid:20210612T000000
DTEND;TZID=Europe/Madrid:20210612T235959
DTSTAMP:20260424T233553
CREATED:20240423T084527Z
LAST-MODIFIED:20240423T084527Z
UID:4032-1623456000-1623542399@lagodeandalucia.com
SUMMARY:Rocío chico
DESCRIPTION:Encinas Reales
URL:https://lagodeandalucia.com/evento/rocio-chico/
END:VEVENT
BEGIN:VEVENT
DTSTART;TZID=Europe/Madrid:20210606T000000
DTEND;TZID=Europe/Madrid:20210606T235959
DTSTAMP:20260424T233553
CREATED:20240423T095651Z
LAST-MODIFIED:20240423T095651Z
UID:4136-1622937600-1623023999@lagodeandalucia.com
SUMMARY:Alfombras de sal multicolor. Corpus Christi.
DESCRIPTION:Benamejí.
URL:https://lagodeandalucia.com/evento/alfombras-de-sal-multicolor-corpus-christi/
END:VEVENT
BEGIN:VEVENT
DTSTART;TZID=Europe/Madrid:20210606T000000
DTEND;TZID=Europe/Madrid:20210606T235959
DTSTAMP:20260424T233553
CREATED:20240423T084527Z
LAST-MODIFIED:20240423T084527Z
UID:4031-1622937600-1623023999@lagodeandalucia.com
SUMMARY:Romería de Subida Virgen de Araceli
DESCRIPTION:Lucena
URL:https://lagodeandalucia.com/evento/romeria-de-subida-virgen-de-araceli/
END:VEVENT
BEGIN:VEVENT
DTSTART;TZID=Europe/Madrid:20210605T000000
DTEND;TZID=Europe/Madrid:20210606T235959
DTSTAMP:20260424T233553
CREATED:20240423T090115Z
LAST-MODIFIED:20240423T090115Z
UID:4110-1622851200-1623023999@lagodeandalucia.com
SUMMARY:Feria del Tomate
DESCRIPTION:Jauja \nFeria del Tomate\, como homenaje a las huertas de Jauja\, se realiza una feria con motivo de los primeros tomates que salen de las múltiples huertas de Jauja regadas por el Río Genil\, con actuaciones musicales\, concurso de recetas elaboradas con tomates\, etc. \n  \n  \n  \n  \nImagen: <a href='https://www.freepik.es/fotos/hoja'>Foto de Hoja creado por aleksandarlittlewolf - www.freepik.es</a>
URL:https://lagodeandalucia.com/evento/feria-del-tomate/
END:VEVENT
BEGIN:VEVENT
DTSTART;TZID=Europe/Madrid:20210604T000000
DTEND;TZID=Europe/Madrid:20210606T235959
DTSTAMP:20260424T233553
CREATED:20240423T084507Z
LAST-MODIFIED:20240423T084507Z
UID:4030-1622764800-1623023999@lagodeandalucia.com
SUMMARY:Iznazarí
DESCRIPTION:Iznájar
URL:https://lagodeandalucia.com/evento/iznazari/
END:VEVENT
BEGIN:VEVENT
DTSTART;TZID=Europe/Madrid:20210531T000000
DTEND;TZID=Europe/Madrid:20210606T235959
DTSTAMP:20260424T233553
CREATED:20240423T084507Z
LAST-MODIFIED:20240423T084507Z
UID:4029-1622419200-1623023999@lagodeandalucia.com
SUMMARY:Feria Chica de Loja
DESCRIPTION:Loja.
URL:https://lagodeandalucia.com/evento/feria-chica-de-loja/
END:VEVENT
BEGIN:VEVENT
DTSTART;TZID=Europe/Madrid:20210529T000000
DTEND;TZID=Europe/Madrid:20210529T235959
DTSTAMP:20260424T233553
CREATED:20240423T095421Z
LAST-MODIFIED:20240423T095421Z
UID:4123-1622246400-1622332799@lagodeandalucia.com
SUMMARY:Velada Flamenca y clausura del Festival de Balcones y Rincones
DESCRIPTION:Iznájar.
URL:https://lagodeandalucia.com/evento/velada-flamenca-y-clausura-del-festival-de-balcones-y-rincones/
END:VEVENT
BEGIN:VEVENT
DTSTART;TZID=Europe/Madrid:20210523T000000
DTEND;TZID=Europe/Madrid:20210523T235959
DTSTAMP:20260424T233553
CREATED:20240423T095421Z
LAST-MODIFIED:20240423T095421Z
UID:4124-1621728000-1621814399@lagodeandalucia.com
SUMMARY:Urban Knitting
DESCRIPTION:Iznájar
URL:https://lagodeandalucia.com/evento/urban-knitting/
END:VEVENT
BEGIN:VEVENT
DTSTART;TZID=Europe/Madrid:20210522T000000
DTEND;TZID=Europe/Madrid:20210522T235959
DTSTAMP:20260424T233553
CREATED:20240423T095420Z
LAST-MODIFIED:20240423T095420Z
UID:4122-1621641600-1621727999@lagodeandalucia.com
SUMMARY:Certamen de Coros Rocieros y Degustación de Dulces Típicos
DESCRIPTION:Iznájar.
URL:https://lagodeandalucia.com/evento/certamen-de-coros-rocieros-y-degustacion-de-dulces-tipicos/
END:VEVENT
BEGIN:VEVENT
DTSTART;TZID=Europe/Madrid:20210516T000000
DTEND;TZID=Europe/Madrid:20210516T235959
DTSTAMP:20260424T233553
CREATED:20240423T084507Z
LAST-MODIFIED:20240423T084507Z
UID:4027-1621123200-1621209599@lagodeandalucia.com
SUMMARY:Inicio Fiestas de Santiago
DESCRIPTION:El Higueral (Iznájar)
URL:https://lagodeandalucia.com/evento/inicio-fiestas-de-santiago/
END:VEVENT
BEGIN:VEVENT
DTSTART;TZID=Europe/Madrid:20210516T000000
DTEND;TZID=Europe/Madrid:20210516T235959
DTSTAMP:20260424T233553
CREATED:20240423T084506Z
LAST-MODIFIED:20240423T084506Z
UID:4026-1621123200-1621209599@lagodeandalucia.com
SUMMARY:Fin del Tapijazz
DESCRIPTION:Lucena.
URL:https://lagodeandalucia.com/evento/fin-del-tapijazz/
END:VEVENT
BEGIN:VEVENT
DTSTART;TZID=Europe/Madrid:20210516T000000
DTEND;TZID=Europe/Madrid:20210516T235959
DTSTAMP:20260424T233553
CREATED:20240423T084451Z
LAST-MODIFIED:20240423T084451Z
UID:4025-1621123200-1621209599@lagodeandalucia.com
SUMMARY:Fin Ruta de los Patios y Rincones de la Subbética.
DESCRIPTION:Comarca de la Subbética.
URL:https://lagodeandalucia.com/evento/fin-ruta-de-los-patios-y-rincones-de-la-subbetica/
END:VEVENT
BEGIN:VEVENT
DTSTART;TZID=Europe/Madrid:20210515T000000
DTEND;TZID=Europe/Madrid:20210515T235959
DTSTAMP:20260424T233553
CREATED:20240423T084451Z
LAST-MODIFIED:20240423T084451Z
UID:4024-1621036800-1621123199@lagodeandalucia.com
SUMMARY:Hnos. de la Aurora/ Virgen de la Cabeza
DESCRIPTION:Rute
URL:https://lagodeandalucia.com/evento/hnos-de-la-aurora-virgen-de-la-cabeza/
END:VEVENT
END:VCALENDAR