BEGIN:VCALENDAR
VERSION:2.0
PRODID:-//Estación Nautica - ECPv6.15.16//NONSGML v1.0//EN
CALSCALE:GREGORIAN
METHOD:PUBLISH
X-ORIGINAL-URL:https://lagodeandalucia.com
X-WR-CALDESC:Eventos para Estación Nautica
REFRESH-INTERVAL;VALUE=DURATION:PT1H
X-Robots-Tag:noindex
X-PUBLISHED-TTL:PT1H
BEGIN:VTIMEZONE
TZID:Europe/Madrid
BEGIN:DAYLIGHT
TZOFFSETFROM:+0100
TZOFFSETTO:+0200
TZNAME:CEST
DTSTART:20200329T010000
END:DAYLIGHT
BEGIN:STANDARD
TZOFFSETFROM:+0200
TZOFFSETTO:+0100
TZNAME:CET
DTSTART:20201025T010000
END:STANDARD
BEGIN:DAYLIGHT
TZOFFSETFROM:+0100
TZOFFSETTO:+0200
TZNAME:CEST
DTSTART:20210328T010000
END:DAYLIGHT
BEGIN:STANDARD
TZOFFSETFROM:+0200
TZOFFSETTO:+0100
TZNAME:CET
DTSTART:20211031T010000
END:STANDARD
BEGIN:DAYLIGHT
TZOFFSETFROM:+0100
TZOFFSETTO:+0200
TZNAME:CEST
DTSTART:20220327T010000
END:DAYLIGHT
BEGIN:STANDARD
TZOFFSETFROM:+0200
TZOFFSETTO:+0100
TZNAME:CET
DTSTART:20221030T010000
END:STANDARD
END:VTIMEZONE
BEGIN:VEVENT
DTSTART;TZID=Europe/Madrid:20211002T000000
DTEND;TZID=Europe/Madrid:20211003T235959
DTSTAMP:20260424T160144
CREATED:20240423T085512Z
LAST-MODIFIED:20240423T085512Z
UID:4093-1633132800-1633305599@lagodeandalucia.com
SUMMARY:Fiestas Virgen de Gracia
DESCRIPTION:Zambra (Rute)
URL:https://lagodeandalucia.com/evento/fiestas-virgen-de-gracia/
END:VEVENT
BEGIN:VEVENT
DTSTART;TZID=Europe/Madrid:20211002T000000
DTEND;TZID=Europe/Madrid:20211003T235959
DTSTAMP:20260424T160144
CREATED:20240423T085511Z
LAST-MODIFIED:20240423T085511Z
UID:4092-1633132800-1633305599@lagodeandalucia.com
SUMMARY:ExpoIznájar
DESCRIPTION:Iznájar
URL:https://lagodeandalucia.com/evento/expoiznajar/
END:VEVENT
BEGIN:VEVENT
DTSTART;TZID=Europe/Madrid:20211002T000000
DTEND;TZID=Europe/Madrid:20211002T235959
DTSTAMP:20260424T160144
CREATED:20240423T085511Z
LAST-MODIFIED:20240423T085511Z
UID:4091-1633132800-1633219199@lagodeandalucia.com
SUMMARY:X Ruta Subbética Vespa
DESCRIPTION:Subbética
URL:https://lagodeandalucia.com/evento/x-ruta-subbetica-vespa/
END:VEVENT
BEGIN:VEVENT
DTSTART;TZID=Europe/Madrid:20211001T000000
DTEND;TZID=Europe/Madrid:20211001T235959
DTSTAMP:20260424T160144
CREATED:20240423T085454Z
LAST-MODIFIED:20240423T085454Z
UID:4089-1633046400-1633132799@lagodeandalucia.com
SUMMARY:Semana del Teatro
DESCRIPTION:Lucena
URL:https://lagodeandalucia.com/evento/semana-del-teatro/
END:VEVENT
BEGIN:VEVENT
DTSTART;TZID=Europe/Madrid:20210924T080000
DTEND;TZID=Europe/Madrid:20210928T170000
DTSTAMP:20260424T160144
CREATED:20240423T085454Z
LAST-MODIFIED:20240423T085454Z
UID:4087-1632470400-1632848400@lagodeandalucia.com
SUMMARY:Feria de San Miguel
DESCRIPTION:Encinas Reales
URL:https://lagodeandalucia.com/evento/feria-de-san-miguel/
END:VEVENT
BEGIN:VEVENT
DTSTART;TZID=Europe/Madrid:20210917T080000
DTEND;TZID=Europe/Madrid:20210919T170000
DTSTAMP:20260424T160144
CREATED:20240423T085454Z
LAST-MODIFIED:20240423T085454Z
UID:4086-1631865600-1632070800@lagodeandalucia.com
SUMMARY:Fiestas del Carmen
DESCRIPTION:El Higueral
URL:https://lagodeandalucia.com/evento/fiestas-del-carmen-2/
END:VEVENT
BEGIN:VEVENT
DTSTART;TZID=Europe/Madrid:20210916T080000
DTEND;TZID=Europe/Madrid:20210926T170000
DTSTAMP:20260424T160144
CREATED:20240423T085454Z
LAST-MODIFIED:20240423T085454Z
UID:4088-1631779200-1632675600@lagodeandalucia.com
SUMMARY:Ruta de la Tapa
DESCRIPTION:Iznájar
URL:https://lagodeandalucia.com/evento/ruta-de-la-tapa/
END:VEVENT
BEGIN:VEVENT
DTSTART;TZID=Europe/Madrid:20210910T000000
DTEND;TZID=Europe/Madrid:20210913T235959
DTSTAMP:20260424T160144
CREATED:20240423T085439Z
LAST-MODIFIED:20240423T085439Z
UID:4084-1631232000-1631577599@lagodeandalucia.com
SUMMARY:Feria y Fiestas a la Patrona Virgen de Gracia
DESCRIPTION:Benamejí. \n12 de Septiembre. Día de la Patrona. Procesión de la Virgen de Gracia Coronada.
URL:https://lagodeandalucia.com/evento/feria-y-fiestas-a-la-patrona-virgen-de-gracia/
END:VEVENT
BEGIN:VEVENT
DTSTART;TZID=Europe/Madrid:20210909T080000
DTEND;TZID=Europe/Madrid:20210912T170000
DTSTAMP:20260424T160144
CREATED:20240423T085439Z
LAST-MODIFIED:20240423T085439Z
UID:4085-1631174400-1631466000@lagodeandalucia.com
SUMMARY:Feria Real
DESCRIPTION:Lucena
URL:https://lagodeandalucia.com/evento/feria-real-2/
END:VEVENT
BEGIN:VEVENT
DTSTART;TZID=Europe/Madrid:20210907T000000
DTEND;TZID=Europe/Madrid:20210911T235959
DTSTAMP:20260424T160144
CREATED:20240423T085438Z
LAST-MODIFIED:20240423T085438Z
UID:4083-1630972800-1631404799@lagodeandalucia.com
SUMMARY:Fiestas Patronales
DESCRIPTION:Iznájar
URL:https://lagodeandalucia.com/evento/fiestas-patronales/
END:VEVENT
BEGIN:VEVENT
DTSTART;TZID=Europe/Madrid:20210904T000000
DTEND;TZID=Europe/Madrid:20210904T235959
DTSTAMP:20260424T160144
CREATED:20240423T095436Z
LAST-MODIFIED:20240423T095436Z
UID:4127-1630713600-1630799999@lagodeandalucia.com
SUMMARY:II Certamen de Pintura "Bocetos de Iznájar"
DESCRIPTION:Iznájar.
URL:https://lagodeandalucia.com/evento/ii-certamen-de-pintura-bocetos-de-iznajar/
END:VEVENT
BEGIN:VEVENT
DTSTART;TZID=Europe/Madrid:20210904T000000
DTEND;TZID=Europe/Madrid:20210904T235959
DTSTAMP:20260424T160144
CREATED:20240423T085438Z
LAST-MODIFIED:20240423T085438Z
UID:4081-1630713600-1630799999@lagodeandalucia.com
SUMMARY:Fiestas Virgen del Consuelo
DESCRIPTION:La Hoz (Rute)
URL:https://lagodeandalucia.com/evento/fiestas-virgen-del-consuelo/
END:VEVENT
BEGIN:VEVENT
DTSTART;TZID=Europe/Madrid:20210904T000000
DTEND;TZID=Europe/Madrid:20210904T235959
DTSTAMP:20260424T160144
CREATED:20240423T085438Z
LAST-MODIFIED:20240423T085438Z
UID:4082-1630713600-1630799999@lagodeandalucia.com
SUMMARY:Concentración Baile de Salón y Latino
DESCRIPTION:Benamejí
URL:https://lagodeandalucia.com/evento/concentracion-baile-de-salon-y-latino/
END:VEVENT
BEGIN:VEVENT
DTSTART;TZID=Europe/Madrid:20210904T000000
DTEND;TZID=Europe/Madrid:20210904T235959
DTSTAMP:20260424T160144
CREATED:20240423T085422Z
LAST-MODIFIED:20240423T085422Z
UID:4080-1630713600-1630799999@lagodeandalucia.com
SUMMARY:Final del Concurso de Fandangos
DESCRIPTION:Lucena
URL:https://lagodeandalucia.com/evento/final-del-concurso-de-fandangos/
END:VEVENT
BEGIN:VEVENT
DTSTART;TZID=Europe/Madrid:20210901T000000
DTEND;TZID=Europe/Madrid:20210901T235959
DTSTAMP:20260424T160144
CREATED:20240423T085422Z
LAST-MODIFIED:20240423T085422Z
UID:4079-1630454400-1630540799@lagodeandalucia.com
SUMMARY:Jornadas Europeas Mundo Judío
DESCRIPTION:Lucena
URL:https://lagodeandalucia.com/evento/jornadas-europeas-mundo-judio/
END:VEVENT
BEGIN:VEVENT
DTSTART;TZID=Europe/Madrid:20210829T000000
DTEND;TZID=Europe/Madrid:20210829T235959
DTSTAMP:20260424T160144
CREATED:20240423T085320Z
LAST-MODIFIED:20240423T085320Z
UID:4071-1630195200-1630281599@lagodeandalucia.com
SUMMARY:Carrera de Autos Locos y Concentración de Vehículos Clásicos
DESCRIPTION:Iznájar
URL:https://lagodeandalucia.com/evento/carrera-de-autos-locos-y-concentracion-de-vehiculos-clasicos/
END:VEVENT
BEGIN:VEVENT
DTSTART;TZID=Europe/Madrid:20210827T080000
DTEND;TZID=Europe/Madrid:20210830T170000
DTSTAMP:20260424T160144
CREATED:20240423T085422Z
LAST-MODIFIED:20240423T085422Z
UID:4078-1630051200-1630342800@lagodeandalucia.com
SUMMARY:Feria Grande de Loja
DESCRIPTION:Loja
URL:https://lagodeandalucia.com/evento/feria-grande-de-loja/
END:VEVENT
BEGIN:VEVENT
DTSTART;TZID=Europe/Madrid:20210827T080000
DTEND;TZID=Europe/Madrid:20210829T170000
DTSTAMP:20260424T160144
CREATED:20240423T085320Z
LAST-MODIFIED:20240423T085320Z
UID:4072-1630051200-1630256400@lagodeandalucia.com
SUMMARY:Feria Grande
DESCRIPTION:Algarinejo
URL:https://lagodeandalucia.com/evento/feria-grande/
END:VEVENT
BEGIN:VEVENT
DTSTART;TZID=Europe/Madrid:20210827T000000
DTEND;TZID=Europe/Madrid:20210828T235959
DTSTAMP:20260424T160144
CREATED:20240423T085119Z
LAST-MODIFIED:20240423T085119Z
UID:4070-1630022400-1630195199@lagodeandalucia.com
SUMMARY:Festival Internacional de Folklore
DESCRIPTION:Benamejí
URL:https://lagodeandalucia.com/evento/festival-internacional-de-folklore/
END:VEVENT
BEGIN:VEVENT
DTSTART;TZID=Europe/Madrid:20210827T000000
DTEND;TZID=Europe/Madrid:20210828T235900
DTSTAMP:20260424T160144
CREATED:20240423T085119Z
LAST-MODIFIED:20240423T085119Z
UID:4069-1630022400-1630195140@lagodeandalucia.com
SUMMARY:Noche Encandilada
DESCRIPTION:Encinas Reales
URL:https://lagodeandalucia.com/evento/noche-encandilada/
END:VEVENT
BEGIN:VEVENT
DTSTART;TZID=Europe/Madrid:20210822T000000
DTEND;TZID=Europe/Madrid:20210822T235959
DTSTAMP:20260424T160144
CREATED:20240423T085119Z
LAST-MODIFIED:20240423T085119Z
UID:4068-1629590400-1629676799@lagodeandalucia.com
SUMMARY:Fiestas Virgen del Carmen
DESCRIPTION:Llanos de Don Juan (Rute)
URL:https://lagodeandalucia.com/evento/fiestas-virgen-del-carmen/
END:VEVENT
BEGIN:VEVENT
DTSTART;TZID=Europe/Madrid:20210822T000000
DTEND;TZID=Europe/Madrid:20210822T235959
DTSTAMP:20260424T160144
CREATED:20240423T085119Z
LAST-MODIFIED:20240423T085119Z
UID:4066-1629590400-1629676799@lagodeandalucia.com
SUMMARY:Fiestas V. del Carmen
DESCRIPTION:Zambra (Rute)
URL:https://lagodeandalucia.com/evento/fiestas-v-del-carmen/
END:VEVENT
BEGIN:VEVENT
DTSTART;TZID=Europe/Madrid:20210821T000000
DTEND;TZID=Europe/Madrid:20210828T235959
DTSTAMP:20260424T160144
CREATED:20240423T095435Z
LAST-MODIFIED:20240423T095435Z
UID:4125-1629504000-1630195199@lagodeandalucia.com
SUMMARY:Muestra Internacional de Cine Lago de Iznájar
DESCRIPTION:Iznájar
URL:https://lagodeandalucia.com/evento/muestra-internacional-de-cine-lago-de-iznajar/
END:VEVENT
BEGIN:VEVENT
DTSTART;TZID=Europe/Madrid:20210820T000000
DTEND;TZID=Europe/Madrid:20210820T235959
DTSTAMP:20260424T160144
CREATED:20240423T085119Z
LAST-MODIFIED:20240423T085119Z
UID:4067-1629417600-1629503999@lagodeandalucia.com
SUMMARY:Feria Real
DESCRIPTION:Rute
URL:https://lagodeandalucia.com/evento/feria-real/
END:VEVENT
BEGIN:VEVENT
DTSTART;TZID=Europe/Madrid:20210815T000000
DTEND;TZID=Europe/Madrid:20210815T235959
DTSTAMP:20260424T160144
CREATED:20240423T095651Z
LAST-MODIFIED:20240423T095651Z
UID:4138-1628985600-1629071999@lagodeandalucia.com
SUMMARY:Fin de la Feria de Agosto y Semana Cultural
DESCRIPTION:Benamejí
URL:https://lagodeandalucia.com/evento/fin-de-la-feria-de-agosto-y-semana-cultural/
END:VEVENT
BEGIN:VEVENT
DTSTART;TZID=Europe/Madrid:20210815T000000
DTEND;TZID=Europe/Madrid:20210815T235959
DTSTAMP:20260424T160144
CREATED:20240423T095651Z
LAST-MODIFIED:20240423T095651Z
UID:4139-1628985600-1629071999@lagodeandalucia.com
SUMMARY:Bajada Virgen de Gracia
DESCRIPTION:Benamejí
URL:https://lagodeandalucia.com/evento/bajada-virgen-de-gracia/
END:VEVENT
BEGIN:VEVENT
DTSTART;TZID=Europe/Madrid:20210815T000000
DTEND;TZID=Europe/Madrid:20210815T235959
DTSTAMP:20260424T160144
CREATED:20240423T085912Z
LAST-MODIFIED:20240423T085912Z
UID:4103-1628985600-1629071999@lagodeandalucia.com
SUMMARY:ROMERÍA EN HONOR A LA VIRGEN DE LOURDES
DESCRIPTION:Fuentes de Cesna (Algarinejo)
URL:https://lagodeandalucia.com/evento/romeria-en-honor-a-la-virgen-de-lourdes-2/
END:VEVENT
BEGIN:VEVENT
DTSTART;TZID=Europe/Madrid:20210815T000000
DTEND;TZID=Europe/Madrid:20210815T235959
DTSTAMP:20260424T160144
CREATED:20240423T085321Z
LAST-MODIFIED:20240423T085321Z
UID:4075-1628985600-1629071999@lagodeandalucia.com
SUMMARY:Procesión de San Roque y fiestas populares del Barrio Alto.
DESCRIPTION:Loja
URL:https://lagodeandalucia.com/evento/procesion-de-san-roque-y-fiestas-populares-del-barrio-alto/
END:VEVENT
BEGIN:VEVENT
DTSTART;TZID=Europe/Madrid:20210815T000000
DTEND;TZID=Europe/Madrid:20210815T235959
DTSTAMP:20260424T160144
CREATED:20240423T085320Z
LAST-MODIFIED:20240423T085320Z
UID:4073-1628985600-1629071999@lagodeandalucia.com
SUMMARY:Romería en Honor a la Virgen de Lourdes
DESCRIPTION:Fuentes de Cesna (Algarinejo)
URL:https://lagodeandalucia.com/evento/romeria-en-honor-a-la-virgen-de-lourdes/
END:VEVENT
BEGIN:VEVENT
DTSTART;TZID=Europe/Madrid:20210815T000000
DTEND;TZID=Europe/Madrid:20210815T235959
DTSTAMP:20260424T160144
CREATED:20240423T085104Z
LAST-MODIFIED:20240423T085104Z
UID:4065-1628985600-1629071999@lagodeandalucia.com
SUMMARY:Salida de la Patrona y comienzo Auroras
DESCRIPTION:Iznájar
URL:https://lagodeandalucia.com/evento/salida-de-la-patrona-y-comienzo-auroras/
END:VEVENT
END:VCALENDAR